dset ^tas_A1.bin
undef 32767
options little_endian
title test
xdef 193 linear 0.000 1.875
ydef 96 linear -88.572 1.84525
zdef 1 linear 1 1
tdef 1200 linear 16jan2001 1dy
vars 1
tas 0 0 surface air temperature (K)
ENDVARS
