dset ^precipdata.winter_le.bin
undef 32767
options little_endian
title test
xdef 137 linear -132.75 0.5
ydef 71 linear 19.75 0.5
zdef 1 linear 1 1
tdef 60 linear 01jan1950 1yr
vars 1
precip 0 0 UDEL precip (mm)
ENDVARS
