dset ^wintersfcpres_be.bin
undef 32767
options big_endian
title test
xdef 145 linear 0 2.5
ydef 37 linear 0 2.5
zdef 1 linear 1 1
tdef 64 linear 01jan1950 1yr
vars 1
pres 0 0 sfc pressure (mb)
ENDVARS
